BEGIN:VCALENDAR
PRODID:-//nuDatenautomaten//framework iCal4j //DE
VERSION:2.0
CALSCALE:GREGORIAN
BEGIN:VTIMEZONE
TZID:Europe/Berlin
LAST-MODIFIED:20260306T231828Z
TZURL:https://www.tzurl.org/zoneinfo/Europe/Berlin
X-LIC-LOCATION:Europe/Berlin
X-PROLEPTIC-TZNAME:LMT
BEGIN:STANDARD
TZNAME:CET
TZOFFSETFROM:+005328
TZOFFSETTO:+0100
DTSTART:18930401T000000
END:STANDARD
BEGIN:DAYLIGHT
TZNAME:CEST
TZOFFSETFROM:+0100
TZOFFSETTO:+0200
DTSTART:19160430T230000
RDATE:19400401T020000
RDATE:19430329T020000
RDATE:19460414T020000
RDATE:19470406T030000
RDATE:19480418T020000
RDATE:19490410T020000
RDATE:19800406T020000
END:DAYLIGHT
BEGIN:STANDARD
TZNAME:CET
TZOFFSETFROM:+0200
TZOFFSETTO:+0100
DTSTART:19161001T010000
RDATE:19421102T030000
RDATE:19431004T030000
RDATE:19441002T030000
RDATE:19451118T030000
RDATE:19461007T030000
END:STANDARD
BEGIN:DAYLIGHT
TZNAME:CEST
TZOFFSETFROM:+0100
TZOFFSETTO:+0200
DTSTART:19170416T020000
RRULE:FREQ=YEARLY;UNTIL=19180415T010000Z;BYMONTH=4;BYDAY=3MO
END:DAYLIGHT
BEGIN:STANDARD
TZNAME:CET
TZOFFSETFROM:+0200
TZOFFSETTO:+0100
DTSTART:19170917T030000
RRULE:FREQ=YEARLY;UNTIL=19180916T010000Z;BYMONTH=9;BYDAY=3MO
END:STANDARD
BEGIN:DAYLIGHT
TZNAME:CEST
TZOFFSETFROM:+0100
TZOFFSETTO:+0200
DTSTART:19440403T020000
RRULE:FREQ=YEARLY;UNTIL=19450402T010000Z;BYMONTH=4;BYDAY=1MO
END:DAYLIGHT
BEGIN:DAYLIGHT
TZNAME:CEMT
TZOFFSETFROM:+0200
TZOFFSETTO:+0300
DTSTART:19450524T020000
RDATE:19470511T030000
END:DAYLIGHT
BEGIN:DAYLIGHT
TZNAME:CEST
TZOFFSETFROM:+0300
TZOFFSETTO:+0200
DTSTART:19450924T030000
RDATE:19470629T030000
END:DAYLIGHT
BEGIN:STANDARD
TZNAME:CET
TZOFFSETFROM:+0100
TZOFFSETTO:+0100
DTSTART:19460101T000000
RDATE:19800101T000000
END:STANDARD
BEGIN:STANDARD
TZNAME:CET
TZOFFSETFROM:+0200
TZOFFSETTO:+0100
DTSTART:19471005T030000
RRULE:FREQ=YEARLY;UNTIL=19491002T010000Z;BYMONTH=10;BYDAY=1SU
END:STANDARD
BEGIN:STANDARD
TZNAME:CET
TZOFFSETFROM:+0200
TZOFFSETTO:+0100
DTSTART:19800928T030000
RRULE:FREQ=YEARLY;UNTIL=19950924T010000Z;BYMONTH=9;BYDAY=-1SU
END:STANDARD
BEGIN:DAYLIGHT
TZNAME:CEST
TZOFFSETFROM:+0100
TZOFFSETTO:+0200
DTSTART:19810329T020000
RRULE:FREQ=YEARLY;BYMONTH=3;BYDAY=-1SU
END:DAYLIGHT
BEGIN:STANDARD
TZNAME:CET
TZOFFSETFROM:+0200
TZOFFSETTO:+0100
DTSTART:19961027T030000
RRULE:FREQ=YEARLY;BYMONTH=10;BYDAY=-1SU
END:STANDARD
END:VTIMEZONE
BEGIN:VEVENT
DTSTAMP:20260423T082504Z
DTSTART;TZID=Europe/Berlin:20231117T200000
DTEND;TZID=Europe/Berlin:20231117T230000
SUMMARY:Kreisliga Barmstedter MTV  vs TSV Uetersen II (40)
UID:1f3f700e-ddd6-5b33-e063-1fc7a80a4d3b
STATUS:CONFIRMED
LAST-MODIFIED:20240809T113147Z
DESCRIPTION:Kreisliga Herren\nBegegnungs-Nr: 40\nHeim: Barmstedter MTV \nGast: TSV Uetersen II\n
LOCATION:
CATEGORIES:Saison 2023/24
END:VEVENT
BEGIN:VEVENT
DTSTAMP:20260423T082504Z
DTSTART;TZID=Europe/Berlin:20231208T200000
DTEND;TZID=Europe/Berlin:20231208T230000
SUMMARY:Kreisliga Barmstedter MTV  vs TSV Gut-Heil Heist  (57)
UID:1f3f700e-df02-5b33-e063-1fc7a80a4d3b
STATUS:CONFIRMED
LAST-MODIFIED:20240809T113147Z
DESCRIPTION:Kreisliga Herren\nBegegnungs-Nr: 57\nHeim: Barmstedter MTV \nGast: TSV Gut-Heil Heist \n
LOCATION:
CATEGORIES:Saison 2023/24
END:VEVENT
BEGIN:VEVENT
DTSTAMP:20260423T082504Z
DTSTART;TZID=Europe/Berlin:20230915T200000
DTEND;TZID=Europe/Berlin:20230915T230000
SUMMARY:Kreisliga Barmstedter MTV  vs TTC Die Sterne Elmshorn II (3)
UID:1f3f700e-db28-5b33-e063-1fc7a80a4d3b
STATUS:CONFIRMED
LAST-MODIFIED:20240809T113146Z
DESCRIPTION:Kreisliga Herren\nBegegnungs-Nr: 3\nHeim: Barmstedter MTV \nGast: TTC Die Sterne Elmshorn II\n
LOCATION:
CATEGORIES:Saison 2023/24
END:VEVENT
BEGIN:VEVENT
DTSTAMP:20260423T082504Z
DTSTART;TZID=Europe/Berlin:20240126T194500
DTEND;TZID=Europe/Berlin:20240126T224500
SUMMARY:Kreisliga Barmstedter MTV  vs SuS Waldenau  (109)
UID:1f3f700e-e046-5b33-e063-1fc7a80a4d3b
STATUS:CONFIRMED
LAST-MODIFIED:20240809T113147Z
DESCRIPTION:Kreisliga Herren\nBegegnungs-Nr: 109\nHeim: Barmstedter MTV \nGast: SuS Waldenau \n
LOCATION:
CATEGORIES:Saison 2023/24
END:VEVENT
BEGIN:VEVENT
DTSTAMP:20260423T082504Z
DTSTART;TZID=Europe/Berlin:20240209T194500
DTEND;TZID=Europe/Berlin:20240209T224500
SUMMARY:Kreisliga Barmstedter MTV  vs TSV Prisdorf  (122)
UID:1f3f700e-e134-5b33-e063-1fc7a80a4d3b
STATUS:CONFIRMED
LAST-MODIFIED:20240809T113147Z
DESCRIPTION:Kreisliga Herren\nBegegnungs-Nr: 122\nHeim: Barmstedter MTV \nGast: TSV Prisdorf \n
LOCATION:
CATEGORIES:Saison 2023/24
END:VEVENT
BEGIN:VEVENT
DTSTAMP:20260423T082504Z
DTSTART;TZID=Europe/Berlin:20240223T194500
DTEND;TZID=Europe/Berlin:20240223T224500
SUMMARY:Kreisliga Barmstedter MTV  vs SC Cosmos Wedel  (133)
UID:1f3f700e-e1fa-5b33-e063-1fc7a80a4d3b
STATUS:CONFIRMED
LAST-MODIFIED:20240809T113147Z
DESCRIPTION:Kreisliga Herren\nBegegnungs-Nr: 133\nHeim: Barmstedter MTV \nGast: SC Cosmos Wedel \n
LOCATION:
CATEGORIES:Saison 2023/24
END:VEVENT
BEGIN:VEVENT
DTSTAMP:20260423T082504Z
DTSTART;TZID=Europe/Berlin:20240308T194500
DTEND;TZID=Europe/Berlin:20240308T224500
SUMMARY:Kreisliga Barmstedter MTV  vs TTC Seeth-Ekholt II (146)
UID:1f3f700e-e2dd-5b33-e063-1fc7a80a4d3b
STATUS:CONFIRMED
LAST-MODIFIED:20240809T113147Z
DESCRIPTION:Kreisliga Herren\nBegegnungs-Nr: 146\nHeim: Barmstedter MTV \nGast: TTC Seeth-Ekholt II\n
LOCATION:
CATEGORIES:Saison 2023/24
END:VEVENT
BEGIN:VEVENT
DTSTAMP:20260423T082504Z
DTSTART;TZID=Europe/Berlin:20240315T194500
DTEND;TZID=Europe/Berlin:20240315T224500
SUMMARY:Kreisliga Barmstedter MTV  vs FTSV Fortuna Elmshorn II (151)
UID:1f3f700e-e324-5b33-e063-1fc7a80a4d3b
STATUS:CONFIRMED
LAST-MODIFIED:20240809T113147Z
DESCRIPTION:Kreisliga Herren\nBegegnungs-Nr: 151\nHeim: Barmstedter MTV \nGast: FTSV Fortuna Elmshorn II\n
LOCATION:
CATEGORIES:Saison 2023/24
END:VEVENT
BEGIN:VEVENT
DTSTAMP:20260423T082504Z
DTSTART;TZID=Europe/Berlin:20240112T200000
DTEND;TZID=Europe/Berlin:20240112T230000
SUMMARY:Kreisliga Barmstedter MTV  vs SG Kölln-Reisiek III (163)
UID:1f3f700e-e406-5b33-e063-1fc7a80a4d3b
STATUS:CONFIRMED
LAST-MODIFIED:20240809T113147Z
DESCRIPTION:Kreisliga Herren\nBegegnungs-Nr: 163\nHeim: Barmstedter MTV \nGast: SG Kölln-Reisiek III\n
LOCATION:
CATEGORIES:Saison 2023/24
END:VEVENT
BEGIN:VEVENT
DTSTAMP:20260423T082504Z
DTSTART;TZID=Europe/Berlin:20230929T200000
DTEND;TZID=Europe/Berlin:20230929T230000
SUMMARY:Kreisliga Barmstedter MTV  vs TuS Appen  (16)
UID:1f3f700e-dc1c-5b33-e063-1fc7a80a4d3b
STATUS:CONFIRMED
LAST-MODIFIED:20240809T113146Z
DESCRIPTION:Kreisliga Herren\nBegegnungs-Nr: 16\nHeim: Barmstedter MTV \nGast: TuS Appen \n
LOCATION:
CATEGORIES:Saison 2023/24
END:VEVENT
BEGIN:VEVENT
DTSTAMP:20260423T082504Z
DTSTART;TZID=Europe/Berlin:20231013T200000
DTEND;TZID=Europe/Berlin:20231013T230000
SUMMARY:Kreisliga Barmstedter MTV  vs TuS Esingen III (27)
UID:1f3f700e-dce5-5b33-e063-1fc7a80a4d3b
STATUS:CONFIRMED
LAST-MODIFIED:20240809T113146Z
DESCRIPTION:Kreisliga Herren\nBegegnungs-Nr: 27\nHeim: Barmstedter MTV \nGast: TuS Esingen III\n
LOCATION:
CATEGORIES:Saison 2023/24
END:VEVENT
BEGIN:VEVENT
DTSTAMP:20260423T082504Z
DTSTART;TZID=Europe/Berlin:20231109T203000
DTEND;TZID=Europe/Berlin:20231109T233000
SUMMARY:Kreisliga SC Cosmos Wedel  vs Barmstedter MTV  (33)
UID:1f3f700e-dd52-5b33-e063-1fc7a80a4d3b
STATUS:CONFIRMED
LAST-MODIFIED:20240809T113147Z
DESCRIPTION:Kreisliga Herren\nBegegnungs-Nr: 33\nHeim: SC Cosmos Wedel \nGast: Barmstedter MTV \n
LOCATION:
CATEGORIES:Saison 2023/24
END:VEVENT
BEGIN:VEVENT
DTSTAMP:20260423T082504Z
DTSTART;TZID=Europe/Berlin:20231124T201500
DTEND;TZID=Europe/Berlin:20231124T231500
SUMMARY:Kreisliga TTC Seeth-Ekholt II vs Barmstedter MTV  (47)
UID:1f3f700e-de5a-5b33-e063-1fc7a80a4d3b
STATUS:CONFIRMED
LAST-MODIFIED:20240809T113147Z
DESCRIPTION:Kreisliga Herren\nBegegnungs-Nr: 47\nHeim: TTC Seeth-Ekholt II\nGast: Barmstedter MTV \n
LOCATION:
CATEGORIES:Saison 2023/24
END:VEVENT
BEGIN:VEVENT
DTSTAMP:20260423T082504Z
DTSTART;TZID=Europe/Berlin:20231201T200000
DTEND;TZID=Europe/Berlin:20231201T230000
SUMMARY:Kreisliga FTSV Fortuna Elmshorn II vs Barmstedter MTV  (52)
UID:1f3f700e-deb8-5b33-e063-1fc7a80a4d3b
STATUS:CONFIRMED
LAST-MODIFIED:20240809T113147Z
DESCRIPTION:Kreisliga Herren\nBegegnungs-Nr: 52\nHeim: FTSV Fortuna Elmshorn II\nGast: Barmstedter MTV \n
LOCATION:
CATEGORIES:Saison 2023/24
END:VEVENT
BEGIN:VEVENT
DTSTAMP:20260423T082504Z
DTSTART;TZID=Europe/Berlin:20231213T201500
DTEND;TZID=Europe/Berlin:20231213T231500
SUMMARY:Kreisliga SG Kölln-Reisiek III vs Barmstedter MTV  (63)
UID:1f3f700e-df74-5b33-e063-1fc7a80a4d3b
STATUS:CONFIRMED
LAST-MODIFIED:20240809T113147Z
DESCRIPTION:Kreisliga Herren\nBegegnungs-Nr: 63\nHeim: SG Kölln-Reisiek III\nGast: Barmstedter MTV \n
LOCATION:
CATEGORIES:Saison 2023/24
END:VEVENT
BEGIN:VEVENT
DTSTAMP:20260423T082504Z
DTSTART;TZID=Europe/Berlin:20230919T201500
DTEND;TZID=Europe/Berlin:20230919T231500
SUMMARY:Kreisliga SuS Waldenau  vs Barmstedter MTV  (7)
UID:1f3f700e-db6f-5b33-e063-1fc7a80a4d3b
STATUS:CONFIRMED
LAST-MODIFIED:20240809T113146Z
DESCRIPTION:Kreisliga Herren\nBegegnungs-Nr: 7\nHeim: SuS Waldenau \nGast: Barmstedter MTV \n
LOCATION:
CATEGORIES:Saison 2023/24
END:VEVENT
BEGIN:VEVENT
DTSTAMP:20260423T082504Z
DTSTART;TZID=Europe/Berlin:20240130T201500
DTEND;TZID=Europe/Berlin:20240130T231500
SUMMARY:Kreisliga TuS Appen  vs Barmstedter MTV  (114)
UID:1f3f700e-e0a2-5b33-e063-1fc7a80a4d3b
STATUS:CONFIRMED
LAST-MODIFIED:20240809T113147Z
DESCRIPTION:Kreisliga Herren\nBegegnungs-Nr: 114\nHeim: TuS Appen \nGast: Barmstedter MTV \n
LOCATION:
CATEGORIES:Saison 2023/24
END:VEVENT
BEGIN:VEVENT
DTSTAMP:20260423T082504Z
DTSTART;TZID=Europe/Berlin:20240216T203000
DTEND;TZID=Europe/Berlin:20240216T233000
SUMMARY:Kreisliga TuS Esingen III vs Barmstedter MTV  (130)
UID:1f3f700e-e1c6-5b33-e063-1fc7a80a4d3b
STATUS:CONFIRMED
LAST-MODIFIED:20240809T113147Z
DESCRIPTION:Kreisliga Herren\nBegegnungs-Nr: 130\nHeim: TuS Esingen III\nGast: Barmstedter MTV \n
LOCATION:
CATEGORIES:Saison 2023/24
END:VEVENT
BEGIN:VEVENT
DTSTAMP:20260423T082504Z
DTSTART;TZID=Europe/Berlin:20240301T201500
DTEND;TZID=Europe/Berlin:20240301T231500
SUMMARY:Kreisliga TSV Uetersen II vs Barmstedter MTV  (141)
UID:1f3f700e-e27f-5b33-e063-1fc7a80a4d3b
STATUS:CONFIRMED
LAST-MODIFIED:20240809T113147Z
DESCRIPTION:Kreisliga Herren\nBegegnungs-Nr: 141\nHeim: TSV Uetersen II\nGast: Barmstedter MTV \n
LOCATION:
CATEGORIES:Saison 2023/24
END:VEVENT
BEGIN:VEVENT
DTSTAMP:20260423T082504Z
DTSTART;TZID=Europe/Berlin:20240322T201500
DTEND;TZID=Europe/Berlin:20240322T231500
SUMMARY:Kreisliga TSV Gut-Heil Heist  vs Barmstedter MTV  (160)
UID:1f3f700e-e3cb-5b33-e063-1fc7a80a4d3b
STATUS:CONFIRMED
LAST-MODIFIED:20240809T113147Z
DESCRIPTION:Kreisliga Herren\nBegegnungs-Nr: 160\nHeim: TSV Gut-Heil Heist \nGast: Barmstedter MTV \n
LOCATION:
CATEGORIES:Saison 2023/24
END:VEVENT
BEGIN:VEVENT
DTSTAMP:20260423T082504Z
DTSTART;TZID=Europe/Berlin:20231006T194500
DTEND;TZID=Europe/Berlin:20231006T224500
SUMMARY:Kreisliga TSV Prisdorf  vs Barmstedter MTV  (21)
UID:1f3f700e-dc74-5b33-e063-1fc7a80a4d3b
STATUS:CONFIRMED
LAST-MODIFIED:20240809T113146Z
DESCRIPTION:Kreisliga Herren\nBegegnungs-Nr: 21\nHeim: TSV Prisdorf \nGast: Barmstedter MTV \n
LOCATION:
CATEGORIES:Saison 2023/24
END:VEVENT
END:VCALENDAR
